BEGIN:VCALENDAR
PRODID:-//kirchenweb.ch gmbh//veranstaltungsausgabe v2.0//DE
VERSION:2.0
METHOD:PUBLISH
BEGIN:VEVENT
DTSTART:20260503T073000Z
DTEND:20260503T083000Z
LOCATION:Dorfkirche Hallau\, Gartenstrasse\, 8215 Hallau
TRANSP:OPAQUE
SEQUENCE:0
UID:188234-veranstaltung@ref-sh.ch
DTSTAMP:20260322T064535Z
DESCRIPTION:"...so werden Steine schreien" sagt Jesus im Evangelium für
  den Sonntag Kantate (singt). \nMit Gedenken der Verstorbenen aus Februar
  und März\n\nKontakt: Wiebke Suter\n\nWeitere Infos:
  https://www.ref-sh.ch/veranstaltung/188234
SUMMARY:Gottesdienst "Wenn diese schweigen..."
PRIORITY:5
X-MICROSOFT-CDO-IMPORTANCE:1
CLASS:PUBLIC
END:VEVENT
END:VCALENDAR
