BEGIN:VCALENDAR
PRODID:-//kirchenweb.ch gmbh//veranstaltungsausgabe v2.0//DE
VERSION:2.0
METHOD:PUBLISH
BEGIN:VEVENT
DTSTART:20261231T160000Z
DTEND:20261231T170000Z
LOCATION:Dorfkirche Hallau\, Gartenstrasse\, 8215 Hallau
TRANSP:OPAQUE
SEQUENCE:0
UID:188228-veranstaltung@ref-sh.ch
DTSTAMP:20251209T173825Z
DESCRIPTION:Kontakt: Wiebke Suter\n\nWeitere Infos:
  https://www.ref-sh.ch/veranstaltung/188228
SUMMARY:meditative Andacht zum Jahresschluss
PRIORITY:5
X-MICROSOFT-CDO-IMPORTANCE:1
CLASS:PUBLIC
END:VEVENT
END:VCALENDAR
