BEGIN:VCALENDAR
PRODID:-//kirchenweb.ch gmbh//veranstaltungsausgabe v2.0//DE
VERSION:2.0
METHOD:PUBLISH
BEGIN:VEVENT
DTSTART:20261206T083000Z
DTEND:20261206T093000Z
LOCATION:kath. Kirche Hallau\, \,
TRANSP:OPAQUE
SEQUENCE:0
UID:188223-veranstaltung@ref-sh.ch
DTSTAMP:20251118T201555Z
DESCRIPTION:Kontakt: Wiebke Suter\n\nWeitere Infos:
  https://www.ref-sh.ch/veranstaltung/188223
SUMMARY:ökumen GD bei den Kath
PRIORITY:5
X-MICROSOFT-CDO-IMPORTANCE:1
CLASS:PUBLIC
END:VEVENT
END:VCALENDAR
