BEGIN:VCALENDAR
PRODID:-//kirchenweb.ch gmbh//veranstaltungsausgabe v2.0//DE
VERSION:2.0
METHOD:PUBLISH
BEGIN:VEVENT
DTSTART:20261122T090000Z
DTEND:20261122T100000Z
LOCATION:Bergkirche Hallau\, Bergstrasse\, 8215 Hallau
TRANSP:OPAQUE
SEQUENCE:0
UID:188221-veranstaltung@ref-sh.ch
DTSTAMP:20260322T071541Z
DESCRIPTION:Mitfahrgelegenheit zur Bergkirche gewünscht?\nBitte bis
  Freitag melden an Ulrich Daum (076 665 80 89)\n\nKontakt: Wiebke Suter\n
 \nWeitere Infos: https://www.ref-sh.ch/veranstaltung/188221
SUMMARY:Gottesdienst zum Ewigkeitssonntag (Bergkirche)
PRIORITY:5
X-MICROSOFT-CDO-IMPORTANCE:1
CLASS:PUBLIC
END:VEVENT
END:VCALENDAR
