BEGIN:VCALENDAR
PRODID:-//kirchenweb.ch gmbh//veranstaltungsausgabe v2.0//DE
VERSION:2.0
METHOD:PUBLISH
BEGIN:VEVENT
DTSTART:20260726T080000Z
DTEND:20260726T090000Z
LOCATION:Bergkirche Hallau\, Bergstrasse\, 8215 Hallau
TRANSP:OPAQUE
SEQUENCE:0
UID:188204-veranstaltung@ref-sh.ch
DTSTAMP:20260322T070127Z
DESCRIPTION:Mit Taufgelegenheit und Tauferinnerung\n\nMitfahrgelegenheit
  zur Bergkirche gewünscht?\nBitte bis Freitag melden an Ulrich Daum (076
  665 80 89)\n\nKontakt: Wiebke Suter\n\nWeitere Infos:
  https://www.ref-sh.ch/veranstaltung/188204
SUMMARY:Gottesdienst
PRIORITY:5
X-MICROSOFT-CDO-IMPORTANCE:1
CLASS:PUBLIC
END:VEVENT
END:VCALENDAR
