BEGIN:VCALENDAR
PRODID:-//kirchenweb.ch gmbh//veranstaltungsausgabe v2.0//DE
VERSION:2.0
METHOD:PUBLISH
BEGIN:VEVENT
DTSTART:20260614T080000Z
DTEND:20260614T090000Z
LOCATION:Bergkirche Hallau\, Bergstrasse\, 8215 Hallau
TRANSP:OPAQUE
SEQUENCE:0
UID:188201-veranstaltung@ref-sh.ch
DTSTAMP:20260312T134530Z
DESCRIPTION:Was hat das Räbhüüslifest mit Gott\, Bibel und Lebensfreude
  zu tun? Mit Pfarrerin Wiebke Suter und Lead Pastor Matze Koch. Für
  musikalische Umrahmung sorgt die Brass Band Hallau.\n\nKontakt: Wiebke
  Suter\n\nWeitere Infos: https://www.ref-sh.ch/veranstaltung/188201
SUMMARY:ökumenischer Räbhüüslifest-Gottesdienst
PRIORITY:5
X-MICROSOFT-CDO-IMPORTANCE:1
CLASS:PUBLIC
END:VEVENT
END:VCALENDAR
