BEGIN:VCALENDAR
PRODID:-//kirchenweb.ch gmbh//veranstaltungsausgabe v2.0//DE
VERSION:2.0
METHOD:PUBLISH
BEGIN:VEVENT
DTSTART:20260607T073000Z
DTEND:20260607T083000Z
LOCATION:Dorfkirche Hallau\, Gartenstrasse\, 8215 Hallau
TRANSP:OPAQUE
SEQUENCE:0
UID:188199-veranstaltung@ref-sh.ch
DTSTAMP:20260326T100043Z
DESCRIPTION:Der arme Lazarus wird sorglos geborgen in Abrahams Schoss\,
  erzählt Jesus im Gleichnis. Er erzählt auch vom namenlosen Reichen.
  Indirekt erzählt er dabei von sich. Das öffnet neue Perspektiven.\n
 \nKontakt: Wiebke Suter\n\nWeitere Infos:
  https://www.ref-sh.ch/veranstaltung/188199
SUMMARY:Gottesdienst "in Abrahams Schoss"
PRIORITY:5
X-MICROSOFT-CDO-IMPORTANCE:1
CLASS:PUBLIC
END:VEVENT
END:VCALENDAR
