BEGIN:VCALENDAR
PRODID:-//kirchenweb.ch gmbh//veranstaltungsausgabe v2.0//DE
VERSION:2.0
METHOD:PUBLISH
BEGIN:VEVENT
DTSTART:20260524T080000Z
DTEND:20260524T090000Z
LOCATION:Bergkirche Hallau\, Bergstrasse\, 8215 Hallau
TRANSP:OPAQUE
SEQUENCE:0
UID:188197-veranstaltung@ref-sh.ch
DTSTAMP:20260322T065425Z
DESCRIPTION:Findet die Erzählung vom Turmbau zu Babel im 1. Pfingstfest
  in Jerusalem ihre Fortsetzung oder gar ein Happy End? Wir feiern mit
  Wort\, Musik und Abendmahl Pfingsten und goldene Konfirmation.\n
 \nMitfahrgelegenheit zur Bergkirche gewünscht?\nBitte bis Freitag melden
  an Ulrich Daum (076 665 80 89)\n\nKontakt: Wiebke Suter\n\nWeitere Infos:
  https://www.ref-sh.ch/veranstaltung/188197
SUMMARY:Pfingstgottesdienst
PRIORITY:5
X-MICROSOFT-CDO-IMPORTANCE:1
CLASS:PUBLIC
END:VEVENT
END:VCALENDAR
