BEGIN:VCALENDAR
PRODID:-//kirchenweb.ch gmbh//veranstaltungsausgabe v2.0//DE
VERSION:2.0
METHOD:PUBLISH
BEGIN:VEVENT
DTSTART:20260514T080000Z
DTEND:20260514T090000Z
LOCATION:Bergkirche Hallau\, Bergstrasse\, 8215 Hallau
TRANSP:OPAQUE
SEQUENCE:0
UID:188196-veranstaltung@ref-sh.ch
DTSTAMP:20260322T065103Z
DESCRIPTION:Auffahrt\, so erzählt die biblische Tradition wird Jesus in
  den Himmel "empor gehoben". Vielleicht hiesse das heute\, Jesus ist jetzt
  "in der Cloud" daheim? Seit Auffahrt ist er jedenfalls überall dabei.\n
 \nMitfahrgelegenheit zur Bergkirche gewünscht?\nBitte bis Freitag melden
  an Ulrich Daum (076 665 80 89)\n\nKontakt: Wiebke Suter\n\nWeitere Infos:
  https://www.ref-sh.ch/veranstaltung/188196
SUMMARY:Auffahrtsgottesdienst
PRIORITY:5
X-MICROSOFT-CDO-IMPORTANCE:1
CLASS:PUBLIC
END:VEVENT
END:VCALENDAR
