BEGIN:VCALENDAR
PRODID:-//kirchenweb.ch gmbh//veranstaltungsausgabe v2.0//DE
VERSION:2.0
METHOD:PUBLISH
BEGIN:VEVENT
DTSTART:20251130T153000Z
DTEND:20251130T200000Z
LOCATION:Mesmerhuus Löhningen\, Kloster 14\, 8224 Löhningen
TRANSP:OPAQUE
SEQUENCE:0
UID:188178-veranstaltung@ref-sh.ch
DTSTAMP:20251127T185440Z
DESCRIPTION:Alle Konf-Gruppen und einige Mitarbeiter/innen treffen sich
  für den Rückblick auf das Konfetti 2025. Nach einem Block mit Bildern\,
  Challenges usw. essen wir gemeinsam.\nAnschliessend sind alle zum
  Boxenstopp-Gottesdienst eingeladen (freiwillig)\, Beginn um 19.30 Uhr
 \nDie Konfirmand/innen sind selber verantwortlich für die Fahrt nach
  Löhningen und nach Hause.\nTipp: Bus\, der um 16.02 Uhr in Neunkirch\,
  Bahnhof losfährt\, um 16.05 Uhr in Gächlingen\, Dorf usw.\nRückfahrt\,
  wenn ihr nicht zum Boxenstopp-Gottesdienst bleibt: 19.36 Uhr ab
  Löhningen\, Dorf.\n\nKontakt: marianne.naef@ref-sh.ch\n\nWeitere Infos:
  https://www.ref-sh.ch/veranstaltung/188178
SUMMARY:KonfPlus: Rückblick Konfetti und Boxenstopp-Gottesdienst
PRIORITY:5
X-MICROSOFT-CDO-IMPORTANCE:1
CLASS:PUBLIC
END:VEVENT
END:VCALENDAR
