BEGIN:VCALENDAR
PRODID:-//kirchenweb.ch gmbh//veranstaltungsausgabe v2.0//DE
VERSION:2.0
METHOD:PUBLISH
BEGIN:VEVENT
DTSTART;VALUE=DATE:20260501
DTEND;VALUE=DATE:20260502
LOCATION:Malta\, \,
TRANSP:OPAQUE
SEQUENCE:0
UID:188128-veranstaltung@ref-sh.ch
DTSTAMP:20260106T094159Z
DESCRIPTION:Malta – Eine Insel voller Geschichte und Kultur\n\nStudien-
  und Entdeckungsreise vom 1. bis 8. Mai 2026\n\nDie kleine Insel mit der
  grossen Geschichte ist 2026 unser Ziel. Die beste Reisezeit ist der
 \nFrühling\, wenn angenehme Temperaturen herrschen und die Natur zum
  Leben erwacht.\nNach einem kurzen Flug beginnt unser Programm bereits am
  Ankunftstag mit der ersten\nBesichtigung.\n\nDurch die Jahrhunderte haben
  verschiedene Kulturen ihre Spuren auf Malta hinterlassen:\nVon der
  Megalithkultur über Phönizier\, Römer\, Araber und Normannen bis hin
  zu den\nJohannitern\, die 300 Jahre lang herrschten. Valletta\,
  UNESCO-Weltkulturerbe und ehemalige\nKulturhauptstadt Europas\, gilt als
  eine der schönsten Städte weltweit.\nWährend unserer Reise erkunden
  wir Malta und die Nachbarinsel Gozo bei Tagesausflügen\,\nohne das Hotel
  wechseln zu müssen.\n\nFür einen reibungslosen Ablauf sorgt unser
  lokaler Guide\, der uns direkt zu den\nSehenswürdigkeiten führt\,
  Eintrittskarten organisiert und mit spannenden Informationen in
 \ndeutscher Sprache Land und Leute näherbringt.\n\nWir freuen uns auf
  Ihre Anmeldung\n\nWalter Rüegg\, Reiseleiter\n\nKontakt: Walter Rüegg\n
 \nWeitere Infos: https://www.ref-sh.ch/veranstaltung/188128
SUMMARY:Studien- und Entdeckungsreise nach Malta
PRIORITY:5
X-MICROSOFT-CDO-IMPORTANCE:1
CLASS:PUBLIC
END:VEVENT
END:VCALENDAR
