BEGIN:VCALENDAR
PRODID:-//kirchenweb.ch gmbh//veranstaltungsausgabe v2.0//DE
VERSION:2.0
METHOD:PUBLISH
BEGIN:VEVENT
DTSTART:20261104T130000Z
DTEND:20261104T150000Z
LOCATION:Steigsaal\, Nordstrasse 33\, 8200 Schaffhausen
TRANSP:OPAQUE
SEQUENCE:0
UID:188113-veranstaltung@ref-sh.ch
DTSTAMP:20250912T153029Z
DESCRIPTION:Eine Auswahl an Ideen und bunten Materialien liegen bereit -
  es gibt bestimmt etwas Tolles zu basteln. Es gibt auch einen feinen
  Zvieri. Es braucht etwas Kleingeld für das Material und eine
  Tragetasche. Für die jüngeren Kinder ist es von Vorteil\, wenn jemand
  sie begleitet.\n\nAuskunft: Katrin von Arx\, katrin.vonarx@ref-sh.ch /
  052 625 38 56\n\nKontakt: Katrin von Arx\n\nWeitere Infos:
  https://www.ref-sh.ch/veranstaltung/188113
SUMMARY:Weihnachtsbasteln für Kinder
PRIORITY:5
X-MICROSOFT-CDO-IMPORTANCE:1
CLASS:PUBLIC
END:VEVENT
END:VCALENDAR
