BEGIN:VCALENDAR
PRODID:-//kirchenweb.ch gmbh//veranstaltungsausgabe v2.0//DE
VERSION:2.0
METHOD:PUBLISH
BEGIN:VEVENT
DTSTART:20260503T080000Z
DTEND:20260503T090000Z
LOCATION:Kirche Herblingen\, Chileweg\, 8207 Schaffhausen
TRANSP:OPAQUE
SEQUENCE:0
UID:188060-veranstaltung@ref-sh.ch
DTSTAMP:20260115T083629Z
DESCRIPTION:lebendiger Feuerwehrgottesdienst mit Dixieland-Jazz\nmit der
  Schluuchmusig und Pfarrer Peter Vogelsanger\n\nim Anschluss Bräteln und
  ein kleines Kinderprogramm\n\nKontakt: Pfr. Peter Vogelsanger\n\nWeitere
  Infos: https://www.ref-sh.ch/veranstaltung/188060
SUMMARY:Sankt-Florian-Gottesdienst (Dixieland-Jazz)
PRIORITY:5
X-MICROSOFT-CDO-IMPORTANCE:1
CLASS:PUBLIC
END:VEVENT
END:VCALENDAR
