BEGIN:VCALENDAR
PRODID:-//kirchenweb.ch gmbh//veranstaltungsausgabe v2.0//DE
VERSION:2.0
METHOD:PUBLISH
BEGIN:VEVENT
DTSTART:20260827T120000Z
DTEND:20260827T143000Z
LOCATION:Kirchgemeindehaus Beringen\, Steig 2\, 8222 Beringen
TRANSP:OPAQUE
SEQUENCE:0
UID:187965-veranstaltung@ref-sh.ch
DTSTAMP:20250909T080148Z
DESCRIPTION:Kontakt: Fabienne Anghel\n\nWeitere Infos:
  https://www.ref-sh.ch/veranstaltung/187965
SUMMARY:Spielnachmittag für Erwachsene
PRIORITY:5
X-MICROSOFT-CDO-IMPORTANCE:1
CLASS:PUBLIC
END:VEVENT
END:VCALENDAR
