BEGIN:VCALENDAR
PRODID:-//kirchenweb.ch gmbh//veranstaltungsausgabe v2.0//DE
VERSION:2.0
METHOD:PUBLISH
BEGIN:VEVENT
DTSTART:20260412T090000Z
DTEND:20260412T100000Z
LOCATION:Kirche\, \,  Buchberg-Rüdlingen
TRANSP:OPAQUE
SEQUENCE:0
UID:187810-veranstaltung@ref-sh.ch
DTSTAMP:20260316T095004Z
DESCRIPTION:Der Reformator Martin Luther hatte zum Jahreswechsel 1523/24
  in einem Brief an den Sächsischen Fürstenhof erklärt\, „deutsche
  Psalmen für das Volk zu schaffen“ zu wollen\, damit „das Volk
  möglichst einfache und gebräuchliche\, freilich reine und passende
  Worte singen“ könne\, in denen „der Sinne durchsichtig sein und
  (die) den Psalmen so weit wie möglich nahekommen“ sollen.\n\n"Jesus
  Christus\, unser Heiland\, der den Tod überwand" ist ein solcher Psalm.
  Unser Organist Václav Hřebec bearbeitet und interpretiert ihn
  musikalisch\, Barbara Erdmann findet die Worte dafür.\n\nEtwa einmal im
  Monat gestalten wir den Gottesdienst unkonventionell: mit besonderen
  Gästen\, aussergewöhnlicher Musik\, Bild- oder Filmbetrachtungen\, mit
  Laien und Profis\, mit interaktiven Elementen – und kindgerecht mit
  Spielecke.\n\nAb 10.30 Uhr steht ein Kaffee oder ein Tee für Sie im
  Foyer und in der Kirche bereit. Kommen Sie gerne etwas früher (der
  Kaffee ist wirklich gut!) und nutzen Sie die Gelegenheit zum Austausch.
  Sobald um 11.00 Uhr die Musik erklingt\, bitten wir Sie\, Platz zu
  nehmen.\n\nKontakt: Barbara Erdmann\n\nWeitere Infos:
  https://www.ref-sh.ch/veranstaltung/187810
SUMMARY:Elf Uhr Gottesdienst
PRIORITY:5
X-MICROSOFT-CDO-IMPORTANCE:1
CLASS:PUBLIC
END:VEVENT
END:VCALENDAR
