BEGIN:VCALENDAR
PRODID:-//kirchenweb.ch gmbh//veranstaltungsausgabe v2.0//DE
VERSION:2.0
METHOD:PUBLISH
BEGIN:VEVENT
DTSTART:20260304T183000Z
DTEND:20260304T193000Z
LOCATION:Münster\, Münsterplatz\, 8200 Schaffhausen
TRANSP:OPAQUE
SEQUENCE:0
UID:187696-veranstaltung@ref-sh.ch
DTSTAMP:20250903T153028Z
DESCRIPTION:In einer offenen Runde üben wir ohne Meditationstext das
  innere Schweigen. Der Kontakt mit der unaussprechlichen Tiefe in jedem
  Menschen ist Ziel und Geschenk der Stille. Dabei ist offen\, ob die
  Erfahrung von den Teilnehmenden als göttliche Gegenwart gedeutet oder im
  Sinne des Zen als vollkommene Präsenz erlebt wird. Interessierte und
  Suchende jeglicher religiöser und geistiger Ausrichtung sind willkommen.
  (Seiteneingang)\n\nKontakt: Ruedi Waldvogel (052 620 01 54)\n\nWeitere
  Infos: https://www.ref-sh.ch/veranstaltung/187696
SUMMARY:Sitzen in der Stille (Meditation)
PRIORITY:5
X-MICROSOFT-CDO-IMPORTANCE:1
CLASS:PUBLIC
END:VEVENT
END:VCALENDAR
