BEGIN:VCALENDAR
PRODID:-//kirchenweb.ch gmbh//veranstaltungsausgabe v2.0//DE
VERSION:2.0
METHOD:PUBLISH
BEGIN:VEVENT
DTSTART:20260528T173000Z
DTEND:20260528T193000Z
LOCATION:Pfarrhaustreff\, \, 8454 Buchberg
TRANSP:OPAQUE
SEQUENCE:0
UID:187514-veranstaltung@ref-sh.ch
DTSTAMP:20251020T184137Z
DESCRIPTION:Konfthemen aufbereitet für Erwachsene. An diesem Abend: "Sinn
  des Lebens"\n\nKurzer Input - Diskussion - Ausklang\n\nKosten: Ein
  Fünfliber pro Abend\, kommt der Kollekte des nächsten Sonntags zugute.
 \n\nAnmeldung bis 19. Mai an Beat Frefel\, https://beat.frefel@ref-sh.ch\,
  044 867 05 18\n\nKontakt: beat.frefel@ref-sh.ch\n\nWeitere Infos:
  https://www.ref-sh.ch/veranstaltung/187514
SUMMARY:Erwachsenenbildung: Konf für Erwachsene "Sinn des Lebens"
PRIORITY:5
X-MICROSOFT-CDO-IMPORTANCE:1
CLASS:PUBLIC
END:VEVENT
END:VCALENDAR
