BEGIN:VCALENDAR
PRODID:-//kirchenweb.ch gmbh//veranstaltungsausgabe v2.0//DE
VERSION:2.0
METHOD:PUBLISH
BEGIN:VEVENT
DTSTART:20261130T130000Z
DTEND:20261130T160000Z
LOCATION:HofAckerZentrum\, Alpenstrasse 176\, 8203 Schaffhausen
TRANSP:OPAQUE
SEQUENCE:0
UID:187474-veranstaltung@ref-sh.ch
DTSTAMP:20251029T124213Z
DESCRIPTION:Kreistänze zum Mitmachen mit und ohne Tanzerfahrung.\nMit
  Zvieri\, Kollekte\n\nKirchenrätliche Frauenkommission\n\nKontakt: Doris
  Brodbeck\n\nWeitere Infos: https://www.ref-sh.ch/veranstaltung/187474
SUMMARY:Meditationstanz zum Advent
PRIORITY:5
X-MICROSOFT-CDO-IMPORTANCE:1
CLASS:PUBLIC
END:VEVENT
END:VCALENDAR
