BEGIN:VCALENDAR
PRODID:-//kirchenweb.ch gmbh//veranstaltungsausgabe v2.0//DE
VERSION:2.0
METHOD:PUBLISH
BEGIN:VEVENT
DTSTART:20261225T084500Z
DTEND:20261225T094500Z
LOCATION:Kirche Löhningen\, Kloster 3\, 8224 Löhningen
TRANSP:OPAQUE
SEQUENCE:0
UID:187456-veranstaltung@ref-sh.ch
DTSTAMP:20260210T075821Z
DESCRIPTION:Weihnachtsgottesdienst mit Abendmahl; mit Pfarrer Lukas Huber.
  Statt einer Predigt wird eine Geschichte vorgetragen.\n\n\n\nKontakt:
  Lukas Huber\n\nWeitere Infos: https://www.ref-sh.ch/veranstaltung/187456
SUMMARY:Abendmahlsgottesdienst zu Weihnachten
PRIORITY:5
X-MICROSOFT-CDO-IMPORTANCE:1
CLASS:PUBLIC
END:VEVENT
END:VCALENDAR
