BEGIN:VCALENDAR
PRODID:-//kirchenweb.ch gmbh//veranstaltungsausgabe v2.0//DE
VERSION:2.0
METHOD:PUBLISH
BEGIN:VEVENT
DTSTART:20261224T210000Z
DTEND:20261224T220000Z
LOCATION:Kirche Löhningen\, Kloster 3\, 8224 Löhningen
TRANSP:OPAQUE
SEQUENCE:0
UID:187455-veranstaltung@ref-sh.ch
DTSTAMP:20260210T075806Z
DESCRIPTION:Christnachtfeier mit Lukas Huber.\n\n\nKontakt: Lukas Huber\n
 \nWeitere Infos: https://www.ref-sh.ch/veranstaltung/187455
SUMMARY:Christnachtfeier
PRIORITY:5
X-MICROSOFT-CDO-IMPORTANCE:1
CLASS:PUBLIC
END:VEVENT
END:VCALENDAR
