BEGIN:VCALENDAR
PRODID:-//kirchenweb.ch gmbh//veranstaltungsausgabe v2.0//DE
VERSION:2.0
METHOD:PUBLISH
BEGIN:VEVENT
DTSTART:20261220T160000Z
DTEND:20261220T170000Z
LOCATION:Kirche Löhningen\, Kloster 3\, 8224 Löhningen
TRANSP:OPAQUE
SEQUENCE:0
UID:187454-veranstaltung@ref-sh.ch
DTSTAMP:20260210T075743Z
DESCRIPTION:Gemeinde-Weihnachtsfeier mit dem Familiengottesdienst-Team.\n
 \nEs wird keine Chindehüeti angeboten\, aber Eltern können bei Bedarf
  mit ihren Kindern ins Mesmerhuus gehen.\n\n\nKontakt: Lukas Huber\n
 \nWeitere Infos: https://www.ref-sh.ch/veranstaltung/187454
SUMMARY:Gemeinde-Weihnachtsfeier
PRIORITY:5
X-MICROSOFT-CDO-IMPORTANCE:1
CLASS:PUBLIC
END:VEVENT
END:VCALENDAR
