BEGIN:VCALENDAR
PRODID:-//kirchenweb.ch gmbh//veranstaltungsausgabe v2.0//DE
VERSION:2.0
METHOD:PUBLISH
BEGIN:VEVENT
DTSTART:20261118T123000Z
DTEND:20261118T170000Z
LOCATION:Gächlingen\, \,
TRANSP:OPAQUE
SEQUENCE:0
UID:187352-veranstaltung@ref-sh.ch
DTSTAMP:20260311T061637Z
DESCRIPTION:Kontakt: js\n\nWeitere Infos:
  https://www.ref-sh.ch/veranstaltung/187352
SUMMARY:Wintersynode
PRIORITY:5
X-MICROSOFT-CDO-IMPORTANCE:1
CLASS:PUBLIC
END:VEVENT
END:VCALENDAR
