BEGIN:VCALENDAR
PRODID:-//kirchenweb.ch gmbh//veranstaltungsausgabe v2.0//DE
VERSION:2.0
METHOD:PUBLISH
BEGIN:VEVENT
DTSTART:20260617T070000Z
DTEND:20260617T160000Z
LOCATION:Zwingli Schaffhausen\, \,
TRANSP:OPAQUE
SEQUENCE:0
UID:187339-veranstaltung@ref-sh.ch
DTSTAMP:20260311T054453Z
DESCRIPTION:Kontakt: js\n\nWeitere Infos:
  https://www.ref-sh.ch/veranstaltung/187339
SUMMARY:Sommersynode
PRIORITY:5
X-MICROSOFT-CDO-IMPORTANCE:1
CLASS:PUBLIC
END:VEVENT
END:VCALENDAR
