BEGIN:VCALENDAR
PRODID:-//kirchenweb.ch gmbh//veranstaltungsausgabe v2.0//DE
VERSION:2.0
METHOD:PUBLISH
BEGIN:VEVENT
DTSTART:20260509T080000Z
DTEND:20260509T100000Z
LOCATION:NACHBAR Stahlgiesserei\, Stahlgiesserei 15b\, 8200 Schaffhausen
TRANSP:OPAQUE
SEQUENCE:0
UID:187319-veranstaltung@ref-sh.ch
DTSTAMP:20260310T081529Z
DESCRIPTION:Mütter - wir alle haben oder hatten eine Mutter. Eine
  Verbindung\, die uns prägt durch das ganze Leben. Behütet\, geliebt und
  umsorgt\, manchmal auch belastet. \nMütter - ein Thema nicht nur für
  Frauen.\n\nDer erste moderierte Teil lebt vom Teilen unserer
  persönlichen Geschichten und der Kompetenz des Zuhörens. Der zweite
  Teil ist gemütlicher Austausch bei Kaffee und Zopf.\n\n\n\nKontakt:
  Nicole Russenberger\, Sozialdiakonie\n\nWeitere Infos:
  https://www.ref-sh.ch/veranstaltung/187319
SUMMARY:Willkommen im Erzählcafé - Mütter
PRIORITY:5
X-MICROSOFT-CDO-IMPORTANCE:1
CLASS:PUBLIC
END:VEVENT
END:VCALENDAR
