BEGIN:VCALENDAR
PRODID:-//kirchenweb.ch gmbh//veranstaltungsausgabe v2.0//DE
VERSION:2.0
METHOD:PUBLISH
BEGIN:VEVENT
DTSTART:20260221T180000Z
DTEND:20260221T190000Z
LOCATION:Kirche Löhningen\, Kloster 3\, 8224 Löhningen
TRANSP:OPAQUE
SEQUENCE:0
UID:187164-veranstaltung@ref-sh.ch
DTSTAMP:20260223T073723Z
DESCRIPTION:116. SamGo Löhningen\, der Jugendgottesdienst für Teenager
  von 5. bis 9. Klasse\, mit Team (Enya Akesson und Anna Glaus)\, Lukas
  Huber und Niel Powers (Musik).\n\nKontakt: Lukas Huber\n\nWeitere Infos:
  https://www.ref-sh.ch/veranstaltung/187164
SUMMARY:SamGo Löhningen: «Pech und Pannen»
PRIORITY:5
X-MICROSOFT-CDO-IMPORTANCE:1
CLASS:PUBLIC
END:VEVENT
END:VCALENDAR
