BEGIN:VCALENDAR
PRODID:-//kirchenweb.ch gmbh//veranstaltungsausgabe v2.0//DE
VERSION:2.0
METHOD:PUBLISH
BEGIN:VEVENT
DTSTART:20251206T180000Z
DTEND:20251206T190000Z
LOCATION:Kirche Löhningen\, Kloster 3\, 8224 Löhningen
TRANSP:OPAQUE
SEQUENCE:0
UID:187158-veranstaltung@ref-sh.ch
DTSTAMP:20251207T074516Z
DESCRIPTION:114. SamGo Löhningen\, der Jugendgottesdienst für Teenager
  von 5. bis 9. Klasse\, mit Lukas Huber\, Niel Powers und Dominik Vögeli.
 \n\nKontakt: Pfarrer Lukas Huber\n\nWeitere Infos:
  https://www.ref-sh.ch/veranstaltung/187158
SUMMARY:SamGo Löhningen: «Das schwarze Schaf»
PRIORITY:5
X-MICROSOFT-CDO-IMPORTANCE:1
CLASS:PUBLIC
END:VEVENT
END:VCALENDAR
