BEGIN:VCALENDAR
PRODID:-//kirchenweb.ch gmbh//veranstaltungsausgabe v2.0//DE
VERSION:2.0
METHOD:PUBLISH
BEGIN:VEVENT
DTSTART:20260326T080000Z
DTEND:20260326T100000Z
LOCATION:Schaffhausen\, \,
TRANSP:OPAQUE
SEQUENCE:0
UID:187138-veranstaltung@ref-sh.ch
DTSTAMP:20250827T093755Z
DESCRIPTION:Führung mit Herrn W. Vogelsanger\n\nweitere Infos Anfang
  März 2026\n\nKontakt: Katharina Oostlander\n052 672 8445\n\nWeitere
  Infos: https://www.ref-sh.ch/veranstaltung/187138
SUMMARY:Frauenforum: Führung Industriekultur im Wandel der Zeit
PRIORITY:5
X-MICROSOFT-CDO-IMPORTANCE:1
CLASS:PUBLIC
END:VEVENT
END:VCALENDAR
