BEGIN:VCALENDAR
PRODID:-//kirchenweb.ch gmbh//veranstaltungsausgabe v2.0//DE
VERSION:2.0
METHOD:PUBLISH
BEGIN:VEVENT
DTSTART:20270101T093000Z
DTEND:20270101T103000Z
LOCATION:Schulhaus Guntmadingen\, Neuengasse 1\, 8223 Löhningen
TRANSP:OPAQUE
SEQUENCE:0
UID:187131-veranstaltung@ref-sh.ch
DTSTAMP:20260210T075833Z
DESCRIPTION:Neujahrsgottesdienst mit Pfarrer Lukas Huber im Schulhaus
  Guntmadingen.\n\nAnschliessend Neujahrs-Aperitif.\n\nDer Gottesdienst
  findet https://map.search.ch/Guntmadingen\,Neuengasse-1 statt.\n\n
 \nKontakt: Pfarrer Lukas Huber\n\nWeitere Infos:
  https://www.ref-sh.ch/veranstaltung/187131
SUMMARY:Neujahrs-Gottesdienst in Guntmadingen\, mit Pfarrer Lukas P. Huber
PRIORITY:5
X-MICROSOFT-CDO-IMPORTANCE:1
CLASS:PUBLIC
END:VEVENT
END:VCALENDAR
