BEGIN:VCALENDAR
PRODID:-//kirchenweb.ch gmbh//veranstaltungsausgabe v2.0//DE
VERSION:2.0
METHOD:PUBLISH
BEGIN:VEVENT
DTSTART:20261004T074500Z
DTEND:20261004T084500Z
LOCATION:Kirche Löhningen\, Kloster 3\, 8224 Löhningen
TRANSP:OPAQUE
SEQUENCE:0
UID:187130-veranstaltung@ref-sh.ch
DTSTAMP:20260210T075202Z
DESCRIPTION:Gottesdienst mit Jutta Schenk in der Kirche Löhningen.\n
 \nKontakt: Pfarrer Lukas P. Huber\n\nWeitere Infos:
  https://www.ref-sh.ch/veranstaltung/187130
SUMMARY:Gottesdienst
PRIORITY:5
X-MICROSOFT-CDO-IMPORTANCE:1
CLASS:PUBLIC
END:VEVENT
END:VCALENDAR
