BEGIN:VCALENDAR
PRODID:-//kirchenweb.ch gmbh//veranstaltungsausgabe v2.0//DE
VERSION:2.0
METHOD:PUBLISH
BEGIN:VEVENT
DTSTART:20261213T084500Z
DTEND:20261213T094500Z
LOCATION:Kirche Löhningen\, Kloster 3\, 8224 Löhningen
TRANSP:OPAQUE
SEQUENCE:0
UID:186916-veranstaltung@ref-sh.ch
DTSTAMP:20260210T075728Z
DESCRIPTION:Gottesdienst mit dem https://www.ref-sh.ch/beringen-kchor und
  Lukas Huber.\n\n\n\nKontakt: Lukas Huber\n\nWeitere Infos:
  https://www.ref-sh.ch/veranstaltung/186916
SUMMARY:Gottesdienst mit Kirchenchor Beringen
PRIORITY:5
X-MICROSOFT-CDO-IMPORTANCE:1
CLASS:PUBLIC
END:VEVENT
END:VCALENDAR
