BEGIN:VCALENDAR
PRODID:-//kirchenweb.ch gmbh//veranstaltungsausgabe v2.0//DE
VERSION:2.0
METHOD:PUBLISH
BEGIN:VEVENT
DTSTART:20261122T084500Z
DTEND:20261122T094500Z
LOCATION:Kirche Löhningen\, Kloster 3\, 8224 Löhningen
TRANSP:OPAQUE
SEQUENCE:0
UID:186915-veranstaltung@ref-sh.ch
DTSTAMP:20260210T075359Z
DESCRIPTION:Gottesdienst zum Ewigkeitssonntag mit Pfarrer Lukas Huber; der
  im Kirchenjahr 2025–26 Verstorbenen wird gedacht.\n\n\n\n\nKontakt:
  Pfarrer Lukas Huber\n\nWeitere Infos:
  https://www.ref-sh.ch/veranstaltung/186915
SUMMARY:Gottesdienst zum Ewigkeitssonntag
PRIORITY:5
X-MICROSOFT-CDO-IMPORTANCE:1
CLASS:PUBLIC
END:VEVENT
END:VCALENDAR
