BEGIN:VCALENDAR
PRODID:-//kirchenweb.ch gmbh//veranstaltungsausgabe v2.0//DE
VERSION:2.0
METHOD:PUBLISH
BEGIN:VEVENT
DTSTART:20261108T084500Z
DTEND:20261108T094500Z
LOCATION:Kirche Löhningen\, Kloster 3\, 8224 Löhningen
TRANSP:OPAQUE
SEQUENCE:0
UID:186841-veranstaltung@ref-sh.ch
DTSTAMP:20260210T075256Z
DESCRIPTION:Gottesdienst in der Kirche Löhningen.\n\nDie Kirchgemeinde
  Beringen ist auch eingeladen in diesen Gottesdienst.\n\nKontakt: Pfarrer
  Lukas Huber\n\nWeitere Infos: https://www.ref-sh.ch/veranstaltung/186841
SUMMARY:Regio-Gottesdienst
PRIORITY:5
X-MICROSOFT-CDO-IMPORTANCE:1
CLASS:PUBLIC
END:VEVENT
END:VCALENDAR
