BEGIN:VCALENDAR
PRODID:-//kirchenweb.ch gmbh//veranstaltungsausgabe v2.0//DE
VERSION:2.0
METHOD:PUBLISH
BEGIN:VEVENT
DTSTART:20261101T084500Z
DTEND:20261101T094500Z
LOCATION:Kirche Löhningen\, Kloster 3\, 8224 Löhningen
TRANSP:OPAQUE
SEQUENCE:0
UID:186840-veranstaltung@ref-sh.ch
DTSTAMP:20260210T075222Z
DESCRIPTION:Kurzer Abendmahls-Gottesdienst zum Reformationssonntag\, mit
  Pfarrer Lukas Huber. Anschliessend Kirchgemeinde-Versammlung.\n\n\n
 \nKontakt: Pfarrer Lukas Huber\n\nWeitere Infos:
  https://www.ref-sh.ch/veranstaltung/186840
SUMMARY:Abendmahlsgottesdienst zum Reformationssonntag\, anschliessend
  Kirchgemeinde-Versammlung
PRIORITY:5
X-MICROSOFT-CDO-IMPORTANCE:1
CLASS:PUBLIC
END:VEVENT
END:VCALENDAR
