BEGIN:VCALENDAR
PRODID:-//kirchenweb.ch gmbh//veranstaltungsausgabe v2.0//DE
VERSION:2.0
METHOD:PUBLISH
BEGIN:VEVENT
DTSTART:20260815T160000Z
DTEND:20260815T170000Z
LOCATION:Kirche Löhningen\, Kloster 3\, 8224 Löhningen
TRANSP:OPAQUE
SEQUENCE:0
UID:186832-veranstaltung@ref-sh.ch
DTSTAMP:20260210T075002Z
DESCRIPTION:Samstagabend-Gottesdienst mit dem Fiire-mit-de-Grosse-Team und
  Lukas Huber im Pfarrgarten; bei ungünstiger Witterung in der Kirche
  Löhningen (im Zweifelsfall gibt Telefon 052 508 02 96 Auskunft).\n
 \nKontakt: Pfarrer Lukas Huber\n\nWeitere Infos:
  https://www.ref-sh.ch/veranstaltung/186832
SUMMARY:Samstagabend-Gottesdienst
PRIORITY:5
X-MICROSOFT-CDO-IMPORTANCE:1
CLASS:PUBLIC
END:VEVENT
END:VCALENDAR
