BEGIN:VCALENDAR
PRODID:-//kirchenweb.ch gmbh//veranstaltungsausgabe v2.0//DE
VERSION:2.0
METHOD:PUBLISH
BEGIN:VEVENT
DTSTART:20260726T074500Z
DTEND:20260726T084500Z
LOCATION:Kirche Löhningen\, Kloster 3\, 8224 Löhningen
TRANSP:OPAQUE
SEQUENCE:0
UID:186827-veranstaltung@ref-sh.ch
DTSTAMP:20260210T074939Z
DESCRIPTION:Regio-Gottesdienst in der Kirche Löhningen mit Jutta Schenk.
 \n\nDie Kirchgemeinde Beringen ist auch in diesen Gottesdienst eingeladen.
 \n\nKontakt: Lukas Huber\n\nWeitere Infos:
  https://www.ref-sh.ch/veranstaltung/186827
SUMMARY:Regio-Gottesdienst
PRIORITY:5
X-MICROSOFT-CDO-IMPORTANCE:1
CLASS:PUBLIC
END:VEVENT
END:VCALENDAR
