BEGIN:VCALENDAR
PRODID:-//kirchenweb.ch gmbh//veranstaltungsausgabe v2.0//DE
VERSION:2.0
METHOD:PUBLISH
BEGIN:VEVENT
DTSTART:20261107T104500Z
DTEND:20261107T130000Z
LOCATION:Beringen\, Kirchgemeindehaus\, Steig 2\, 8222 Beringen
TRANSP:OPAQUE
SEQUENCE:0
UID:186809-veranstaltung@ref-sh.ch
DTSTAMP:20250821T084028Z
DESCRIPTION:Kontakt: Fabienne Anghel\n\nWeitere Infos:
  https://www.ref-sh.ch/veranstaltung/186809
SUMMARY:Zmittagplausch
PRIORITY:5
X-MICROSOFT-CDO-IMPORTANCE:1
CLASS:PUBLIC
END:VEVENT
END:VCALENDAR
