BEGIN:VCALENDAR
PRODID:-//kirchenweb.ch gmbh//veranstaltungsausgabe v2.0//DE
VERSION:2.0
METHOD:PUBLISH
BEGIN:VEVENT
DTSTART:20260517T150000Z
DTEND:20260517T160000Z
LOCATION:Kirche\, \,  Buchberg-Rüdlingen
TRANSP:OPAQUE
SEQUENCE:0
UID:186638-veranstaltung@ref-sh.ch
DTSTAMP:20260319T080816Z
DESCRIPTION:Das Ensemble MAYUKA präsentiert ein abwechslungsreiches
  Programm.\n\nGeniale Komponisten wie Mendelssohn\, Dvorak\, Brahms haben
  je vier Duette für Sopran und Tenor komponiert. Zwischen den Duetten
  singen wir Sololieder aus dem italienischen Belcanto.\n\nYumi
  Golay/Sopran\nKazuo Takeshita/Tenor\nMarlies Nussbaum/Klavier\nMartin
  Metzler/Moderation\n\n\n\nKontakt: barbara.erdmann@ref-sh.ch\n\nWeitere
  Infos: https://www.ref-sh.ch/veranstaltung/186638
SUMMARY:Konzert mit dem Ensemble MAYUKA
PRIORITY:5
X-MICROSOFT-CDO-IMPORTANCE:1
CLASS:PUBLIC
END:VEVENT
END:VCALENDAR
