BEGIN:VCALENDAR
PRODID:-//kirchenweb.ch gmbh//veranstaltungsausgabe v2.0//DE
VERSION:2.0
METHOD:PUBLISH
BEGIN:VEVENT
DTSTART:20251211T183000Z
DTEND:20251211T203000Z
LOCATION:Rietmann'sches Haus\, Herrengasse 30\, 8213 Neunkirch
TRANSP:OPAQUE
SEQUENCE:0
UID:186624-veranstaltung@ref-sh.ch
DTSTAMP:20251117T170525Z
DESCRIPTION:"Spaziergang durch die Liederlandschaft des Advents"\n
 \nPfarrerin Ute Nürnberg stellt uns die spannenden Geschichten
  verschiedener Adventslieder vor\, die wir zusammen mit dem Duo d'Accord
  (Doris Klingler\, Akkordeon\, Matthias Ernst\, Munharmonika) auch singen
  werden.\n\nEintritt frei\, Kollekte am Ausgang.\n\nKontakt: Eva Baumgardt
 \n\nWeitere Infos: https://www.ref-sh.ch/veranstaltung/186624
SUMMARY:Adventsabend - Evang. Frauen Neunkirch Gächlingen
PRIORITY:5
X-MICROSOFT-CDO-IMPORTANCE:1
CLASS:PUBLIC
END:VEVENT
END:VCALENDAR
