BEGIN:VCALENDAR
PRODID:-//kirchenweb.ch gmbh//veranstaltungsausgabe v2.0//DE
VERSION:2.0
METHOD:PUBLISH
BEGIN:VEVENT
DTSTART:20260110T080000Z
DTEND:20260110T120000Z
LOCATION:St.Johann\, Kirchhofplatz\, 8200 Schaffhausen
TRANSP:OPAQUE
SEQUENCE:0
UID:186564-veranstaltung@ref-sh.ch
DTSTAMP:20251126T120855Z
DESCRIPTION:Ein Angebot der reformierten Kirche der Stadt Schaffhausen
  für Kinder der 1. und 2. Klasse mit Geschwistern und Eltern.\nAnmeldung
  bis 3.1.: anjajacquat@gmx.ch oder 077 473 21 35\n\nKontakt: Gabriela
  Fahrni und\nanjajacquat@gmx.ch\n077 473 21 35\n\n\nWeitere Infos:
  https://www.ref-sh.ch/veranstaltung/186564
SUMMARY:FamilienZeit
PRIORITY:5
X-MICROSOFT-CDO-IMPORTANCE:1
CLASS:PUBLIC
END:VEVENT
END:VCALENDAR
