BEGIN:VCALENDAR
PRODID:-//kirchenweb.ch gmbh//veranstaltungsausgabe v2.0//DE
VERSION:2.0
METHOD:PUBLISH
BEGIN:VEVENT
DTSTART:20260923T070000Z
DTEND:20260923T090000Z
LOCATION:Gemeindestube\, Kirchgasse 8\, 8226 Schleitheim
TRANSP:OPAQUE
SEQUENCE:0
UID:186448-veranstaltung@ref-sh.ch
DTSTAMP:20250906T085421Z
DESCRIPTION:Hier der Link zum https://www.ref-sh.ch/dok/62398\n\nKontakt:
  Carolin von Gunten; Jessica Ungricht\n\nWeitere Infos:
  https://www.ref-sh.ch/veranstaltung/186448
SUMMARY:Krabbelgruppe
PRIORITY:5
X-MICROSOFT-CDO-IMPORTANCE:1
CLASS:PUBLIC
END:VEVENT
END:VCALENDAR
