BEGIN:VCALENDAR
PRODID:-//kirchenweb.ch gmbh//veranstaltungsausgabe v2.0//DE
VERSION:2.0
METHOD:PUBLISH
BEGIN:VEVENT
DTSTART:20260426T090000Z
DTEND:20260426T100000Z
LOCATION:Kirchgemeindehaus Trülli\, Trüllenbuck 61\, 8207 Schaffhausen
TRANSP:OPAQUE
SEQUENCE:0
UID:186373-veranstaltung@ref-sh.ch
DTSTAMP:20251023T071438Z
DESCRIPTION:Kontakt: dorothe.felix@ref-sh.ch\n\nWeitere Infos:
  https://www.ref-sh.ch/veranstaltung/186373
SUMMARY:Kirchgemeindeversammlung
PRIORITY:5
X-MICROSOFT-CDO-IMPORTANCE:1
CLASS:PUBLIC
END:VEVENT
END:VCALENDAR
