BEGIN:VCALENDAR
PRODID:-//kirchenweb.ch gmbh//veranstaltungsausgabe v2.0//DE
VERSION:2.0
METHOD:PUBLISH
BEGIN:VEVENT
DTSTART:20251126T140000Z
DTEND:20251126T160000Z
LOCATION:Pfarrhaus Münsterplatz \, Münsterplatz 32\, 8200 Schaffhausen
TRANSP:OPAQUE
SEQUENCE:0
UID:186354-veranstaltung@ref-sh.ch
DTSTAMP:20250829T074124Z
DESCRIPTION:Das neunte und damit letzte obligatorische Schuljahr steht bei
  uns im Zeichen der Themen „Taufe\, Glaube und Kirche“. Die
  Konfirmandenzeit bietet gute Gelegenheit zum gemeinsamen Diskutieren und
  für tiefe Erlebnisse: Ihr seid nochmals mit eurem Jahrgang zusammen und
  lernt neue Orte und Menschen kennen.\n\nDer KonfUnti findet regelmässig
  jede Woche ausser in den Schulferien statt mit einem spirituellen Beginn
  im Chor der Münsterkirche. \n\nHeute lernen wir von zwei ausgewiesenen
  Fachfrauen die „letzte Hilfe“: was geschieht am Ende des menschlichen
  Lebens und wie können wir hilfreich sein. Auszug aus dem Kurs „Letzte
  Hilfe“ mit Pfarrerin Claudia Henne und Pflegefachfrau Nicole Acklin. \n
 \nKontakt: Pfarrer Roland Diethelm\n\nWeitere Infos:
  https://www.ref-sh.ch/veranstaltung/186354
SUMMARY:Konfirmandenunterricht: Das letzte Hemd hat keine Taschen. Dasein
  und Umsorgen bei Sterbenden.
PRIORITY:5
X-MICROSOFT-CDO-IMPORTANCE:1
CLASS:PUBLIC
END:VEVENT
END:VCALENDAR
