BEGIN:VCALENDAR
PRODID:-//kirchenweb.ch gmbh//veranstaltungsausgabe v2.0//DE
VERSION:2.0
METHOD:PUBLISH
BEGIN:VEVENT
DTSTART:20270410T063000Z
DTEND:20270410T140000Z
LOCATION:Kirchgemeindehaus Beringen\, Steig 2\, 8222 Beringen
TRANSP:OPAQUE
SEQUENCE:0
UID:186323-veranstaltung@ref-sh.ch
DTSTAMP:20250812T115012Z
DESCRIPTION:Mit Pfarrer Lukas Huber\, Kloster 3\, 8224 Löhningen\,
  lukas.huber@ref-sh.ch\, 079 824 82 24 und Rosina Huber\, Kloster 3\, 8224
  Löhningen\, rosina.huber@ref-sh.ch\, 052 685 32 20.\n\nKontakt: Pfarrer
  Lukas Huber\n\nWeitere Infos: https://www.ref-sh.ch/veranstaltung/186323
SUMMARY:Konf-Vorbereitungstag
PRIORITY:5
X-MICROSOFT-CDO-IMPORTANCE:1
CLASS:PUBLIC
END:VEVENT
END:VCALENDAR
