BEGIN:VCALENDAR
PRODID:-//kirchenweb.ch gmbh//veranstaltungsausgabe v2.0//DE
VERSION:2.0
METHOD:PUBLISH
BEGIN:VEVENT
DTSTART:20260905T063000Z
DTEND:20260905T100000Z
LOCATION:Mesmerhuus\, Kloster 14\, 8224 Löhningen
TRANSP:OPAQUE
SEQUENCE:0
UID:186317-veranstaltung@ref-sh.ch
DTSTAMP:20260313T163018Z
DESCRIPTION:Mit Pfarrer Lukas Huber\, Kloster 3\, 8224 Löhningen\,
  lukas.huber@ref-sh.ch\, 079 824 82 24 und Rosina Huber\, Kloster 3\, 8224
  Löhningen\, rosina.huber@ref-sh.ch\, 052 685 32 20 und Besuch bei
  Mitarbeiterinnen und Mitarbeitern der Kirchgemeinde.\n\nKontakt: Pfarrer
  Lukas Huber\n\nWeitere Infos: https://www.ref-sh.ch/veranstaltung/186317
SUMMARY:Konf-Unterricht: «Wer macht da eigentlich mit – die
  Kirchgemeinde»
PRIORITY:5
X-MICROSOFT-CDO-IMPORTANCE:1
CLASS:PUBLIC
END:VEVENT
END:VCALENDAR
