BEGIN:VCALENDAR
PRODID:-//kirchenweb.ch gmbh//veranstaltungsausgabe v2.0//DE
VERSION:2.0
METHOD:PUBLISH
BEGIN:VEVENT
DTSTART:20250904T073000Z
DTEND:20250904T083000Z
LOCATION:Hallau\, \,
TRANSP:OPAQUE
SEQUENCE:0
UID:186297-veranstaltung@ref-sh.ch
DTSTAMP:20250811T161125Z
DESCRIPTION:Gemütlicher Morgenspaziergang ab Dorfkirche (mit Yvonne und
  Marie-Luise)\n\nKontakt: Nela Brill Züllig 079 793 58 76\n\nWeitere
  Infos: https://www.ref-sh.ch/veranstaltung/186297
SUMMARY:Morgenspaziergang
PRIORITY:5
X-MICROSOFT-CDO-IMPORTANCE:1
CLASS:PUBLIC
END:VEVENT
END:VCALENDAR
