BEGIN:VCALENDAR
PRODID:-//kirchenweb.ch gmbh//veranstaltungsausgabe v2.0//DE
VERSION:2.0
METHOD:PUBLISH
BEGIN:VEVENT
DTSTART:20261231T180000Z
DTEND:20261231T190000Z
LOCATION:Kirche Oberhalalu\, Mitteldorfstrasse\, 8216 Oberhallau
TRANSP:OPAQUE
SEQUENCE:0
UID:186233-veranstaltung@ref-sh.ch
DTSTAMP:20260118T074318Z
DESCRIPTION:Feierlicher und besinnlicher Gottesdienst am Altjahresabend
  mit Meditation und Symbolhandlung. \nZiehung der Oberhallauer
  Jahreslosung.\n\nKontakt: Pfarrerin Daniela Scherello\n\nWeitere Infos:
  https://www.ref-sh.ch/veranstaltung/186233
SUMMARY:Gottesdienst zum Altjahresabend
PRIORITY:5
X-MICROSOFT-CDO-IMPORTANCE:1
CLASS:PUBLIC
END:VEVENT
END:VCALENDAR
