BEGIN:VCALENDAR
PRODID:-//kirchenweb.ch gmbh//veranstaltungsausgabe v2.0//DE
VERSION:2.0
METHOD:PUBLISH
BEGIN:VEVENT
DTSTART:20261225T180000Z
DTEND:20261225T190000Z
LOCATION:Kirche Oberhallau \, Mitteldorfstrasse 11\, 8216 Oberhallau
TRANSP:OPAQUE
SEQUENCE:0
UID:186232-veranstaltung@ref-sh.ch
DTSTAMP:20260118T074249Z
DESCRIPTION:Kontakt: Pfarrerin Daniela Scherello\n\nWeitere Infos:
  https://www.ref-sh.ch/veranstaltung/186232
SUMMARY:Dorfweihnacht mit Krippenspiel
PRIORITY:5
X-MICROSOFT-CDO-IMPORTANCE:1
CLASS:PUBLIC
END:VEVENT
END:VCALENDAR
