BEGIN:VCALENDAR
PRODID:-//kirchenweb.ch gmbh//veranstaltungsausgabe v2.0//DE
VERSION:2.0
METHOD:PUBLISH
BEGIN:VEVENT
DTSTART:20261129T090000Z
DTEND:20261129T100000Z
LOCATION:Reformierte Kirche Oberhallau\, Mitteldorfstrasse 10\, 8216
  Oberhallau
TRANSP:OPAQUE
SEQUENCE:0
UID:186229-veranstaltung@ref-sh.ch
DTSTAMP:20260127T133856Z
DESCRIPTION:LIEDER & GESCHICHTEN \nAdventsliedersingen (bekannte
  Adventslieder können auf Zuruf gewünscht werden) und beliebte
  Geschichten von Katharina Nimanaij (gelesen von Katharina Nimanaij).\n
 \nKontakt: Pfarrerin Daniela Scherello\, Autorin Katharina Nimanaij\,
  Katechetin Arlette Neukomm\n\nWeitere Infos:
  https://www.ref-sh.ch/veranstaltung/186229
SUMMARY:LIEDER & GESCHICHTEN: Adventsliedersingen
PRIORITY:5
X-MICROSOFT-CDO-IMPORTANCE:1
CLASS:PUBLIC
END:VEVENT
END:VCALENDAR
