BEGIN:VCALENDAR
PRODID:-//kirchenweb.ch gmbh//veranstaltungsausgabe v2.0//DE
VERSION:2.0
METHOD:PUBLISH
BEGIN:VEVENT
DTSTART:20261122T123000Z
DTEND:20261122T130000Z
LOCATION:Mehrzweckgebäude Oberhallau\, Wettistrasse 1 \, 8216 Oberhallau
TRANSP:OPAQUE
SEQUENCE:0
UID:186228-veranstaltung@ref-sh.ch
DTSTAMP:20260127T163032Z
DESCRIPTION:Kontakt: Pfarrerin Daniela Scherello\n\nWeitere Infos:
  https://www.ref-sh.ch/veranstaltung/186228
SUMMARY:Gottesdienst mit anschliessendem Bazar
PRIORITY:5
X-MICROSOFT-CDO-IMPORTANCE:1
CLASS:PUBLIC
END:VEVENT
END:VCALENDAR
