BEGIN:VCALENDAR
PRODID:-//kirchenweb.ch gmbh//veranstaltungsausgabe v2.0//DE
VERSION:2.0
METHOD:PUBLISH
BEGIN:VEVENT
DTSTART:20261101T083000Z
DTEND:20261101T093000Z
LOCATION:Kirche Oberhallau\, Mitteldorfstrasse 11\, 8216 Oberhallau
TRANSP:OPAQUE
SEQUENCE:0
UID:186227-veranstaltung@ref-sh.ch
DTSTAMP:20260118T074013Z
DESCRIPTION:Kontakt: Daniela Scherello\n\nWeitere Infos:
  https://www.ref-sh.ch/veranstaltung/186227
SUMMARY:Gottesdienst zum Reformationssonntag mit Abendmahl
PRIORITY:5
X-MICROSOFT-CDO-IMPORTANCE:1
CLASS:PUBLIC
END:VEVENT
END:VCALENDAR
